BEGIN:VCALENDAR
VERSION:2.0
PRODID:-//North Los Angeles County - ECPv6.13.2.1//NONSGML v1.0//EN
CALSCALE:GREGORIAN
METHOD:PUBLISH
X-WR-CALNAME:North Los Angeles County
X-ORIGINAL-URL:https://www.nlacrc.org
X-WR-CALDESC:Events for North Los Angeles County
REFRESH-INTERVAL;VALUE=DURATION:PT1H
X-Robots-Tag:noindex
X-PUBLISHED-TTL:PT1H
BEGIN:VTIMEZONE
TZID:America/Los_Angeles
BEGIN:DAYLIGHT
TZOFFSETFROM:-0800
TZOFFSETTO:-0700
TZNAME:PDT
DTSTART:20250309T100000
END:DAYLIGHT
BEGIN:STANDARD
TZOFFSETFROM:-0700
TZOFFSETTO:-0800
TZNAME:PST
DTSTART:20251102T090000
END:STANDARD
END:VTIMEZONE
BEGIN:VEVENT
DTSTART;TZID=America/Los_Angeles:20251201T183000
DTEND;TZID=America/Los_Angeles:20251201T200000
DTSTAMP:20260424T145612
CREATED:20250821T204126Z
LAST-MODIFIED:20250821T204126Z
UID:10001052-1764613800-1764619200@www.nlacrc.org
SUMMARY:Filipino Support Group
DESCRIPTION:You are invited to join us! Meet other Filipino families\, share your experiences! Find out about upcoming events and resources. \nContact Theresa Quary (theresa.quary@csun.edu) for details on how to participate\, no later than 4pm on the day of the meeting.
URL:https://www.nlacrc.org/calendar/filipino-support-group-6/2025-12-01/
CATEGORIES:Events,NLACRC Event
END:VEVENT
BEGIN:VEVENT
DTSTART;TZID=America/Los_Angeles:20251203T163000
DTEND;TZID=America/Los_Angeles:20251203T173000
DTSTAMP:20260424T145612
CREATED:20241120T182654Z
LAST-MODIFIED:20251210T203818Z
UID:10000614-1764779400-1764783000@www.nlacrc.org
SUMMARY:Support Group for Self Determination Program at NLACRC – Grupo de Apoyo de NLACRC para el programa de autodeterminación
DESCRIPTION:Join other participants in the Self Determination Program (SDP) at NLACRC\, along with people interested in moving into the SDP\, to talk about challenges and successes we are experiencing in SDP at NLACRC.\n\n\nSpanish interpretation and closed captioning provided.\n\n\nClick Here to Register\n\n\n\nGrupo de apoyo de NLACRC para el programa de autodeterminación\n \nÚnete a los participantes del Programa de Autodeterminación (SDP) del NLACRC\, junto con personas interesadas en ingresar al SDP\, para hablar sobre los desafíos y éxitos que estamos pasando en el programa.\n\nSi tienes problemas que no podemos resolver juntos\, el equipo del grupo de apoyo compartirá los desafíos en tu nombre\, si deseas que lo hagamos en tu nombre.\n\n\nInterpretación en español y subtitulado. Haga clic aquí para registrarse 
URL:https://www.nlacrc.org/calendar/support-group-for-self-determination-program-at-nlacrc-grupo-de-apoyo-de-nlacrc-para-el-programa-de-autodeterminacion-15/
CATEGORIES:Meetings
END:VEVENT
BEGIN:VEVENT
DTSTART;TZID=America/Los_Angeles:20251203T173000
DTEND;TZID=America/Los_Angeles:20251203T193000
DTSTAMP:20260424T145612
CREATED:20250821T212842Z
LAST-MODIFIED:20251203T230048Z
UID:10001056-1764783000-1764790200@www.nlacrc.org
SUMMARY:Tea Time – Farsi Support Group (NLACRC)
DESCRIPTION:  \n\n🫖 Tea Time – Farsi Support Group (NLACRC)\nHosted by NLACRC | Monthly Gatherings for Farsi-Speaking Families \nYou are warmly invited to join our monthly Farsi Support Group\, a welcoming space for connection\, conversation\, and community. Whether virtual or in-person\, each session is designed to support and uplift Farsi-speaking families served by NLACRC. \n\n\n\n\n🗓️ Monthly Meeting Schedule – 2025\nMeetings are held on the first Wednesday of each month\, from 5:30 PM to 7:30 PM. \n\n\n\nMonth\nDate\nFormat\nLocation / Notes\n\n\n\n\nJanuary\nNo Meeting\n—\n—\n\n\nFebruary\nFebruary 5\nIn-Person\nChatsworth Office\n\n\nMarch\nMarch 15\nIn-Person\nNowrooz Picnic at Lake Balboa Park (Saturday)\n\n\nApril\nApril 2\nIn-Person\nChatsworth Office\n\n\nMay\nMay 7\nIn-Person\nChatsworth Office\n\n\nJune\nNo Meeting\n—\n—\n\n\nJuly\nJuly 2\nIn-Person\nChatsworth Office\n\n\nAugust\nAugust 6\nVirtual\nZoom Only\n\n\nSeptember\nSeptember 3\nIn-Person\nChatsworth Office\n\n\nOctober\nOctober 1\nVirtual\nZoom Only\n\n\nNovember\nNovember 5\nVirtual\nZoom Only\n\n\nDecember\nDecember 3\nVirtual\nZoom Only\n\n\n\n\n🌸 Special Event: Nowrooz Picnic\n📍 Lake Balboa Park\n🗓 Saturday\, March 15th\n⏰ 10:30 AM – 1:30 PM\n📌 Location: Across the playground\n📍 Address: 6300 Balboa Blvd\, Van Nuys\, CA 91406 \n\n💻 Zoom Access Info (for virtual meetings)\n\nMeeting ID: 829 5874 9077\nPasscode: 957240\n\n\n📞 Questions? Contact Us!\nNahid Nabouzar\n📧 Nabouzar@nlacrc.org\n📞 (818) 756-6487 \n\n 
URL:https://www.nlacrc.org/calendar/%f0%9f%ab%96-tea-time-farsi-support-group-nlacrc/2025-12-03/
CATEGORIES:Community,NLACRC Event
END:VEVENT
BEGIN:VEVENT
DTSTART;TZID=America/Los_Angeles:20251203T183000
DTEND;TZID=America/Los_Angeles:20251203T183000
DTSTAMP:20260424T145612
CREATED:20241205T212818Z
LAST-MODIFIED:20241205T213037Z
UID:10000648-1764786600-1764786600@www.nlacrc.org
SUMMARY:Black & African American Family Focus Support Group
DESCRIPTION:Coming together to create a safe\, supportive place to connect with other families of children\, young and old\, \nwith special needs\, to share resources\, provide advocacy and to be a part of an inclusive community. \nJoin us at 6:30pm via Zoom the first Wednesday of the month \nTo register contact Theresa Quary at theresa.quary@csun.edu for Zoom link and to answer any further questions.
URL:https://www.nlacrc.org/calendar/black-african-american-family-focus-support-group-5/2025-12-03/
CATEGORIES:Community
END:VEVENT
BEGIN:VEVENT
DTSTART;TZID=America/Los_Angeles:20251204T100000
DTEND;TZID=America/Los_Angeles:20251204T120000
DTSTAMP:20260424T145612
CREATED:20251028T195953Z
LAST-MODIFIED:20251028T195953Z
UID:10001126-1764842400-1764849600@www.nlacrc.org
SUMMARY:Puentes de amor
DESCRIPTION:Los familiares de personas con discapacidades intelectuales y del desarrollo enfrentan una serie de desafíos únicos. Únase a nosotros en el grupo de apoyo para la oportunidad de conectarse con otras familias que han pasado por experiencias similares y compartir recursos. \nEn la oficina del Centro Regional del Norte del Condado de Los Ángeles\n43850 10 St. West\, Lancaster CA 93534 \nPara mas información llame a Sandy Ramirez Teléfono: 661-579-1529 / Correo electrónico: sramirez@nlacrc.org20252 \n2025_2026 AV Spanish Support Group Flyer
URL:https://www.nlacrc.org/calendar/puentes-de-amor-7/
CATEGORIES:Events
END:VEVENT
BEGIN:VEVENT
DTSTART;TZID=America/Los_Angeles:20251210T160000
DTEND;TZID=America/Los_Angeles:20251210T160000
DTSTAMP:20260424T145612
CREATED:20251209T002124Z
LAST-MODIFIED:20251210T171448Z
UID:10001135-1765382400-1765382400@www.nlacrc.org
SUMMARY:Special Board of Trustees Meeting
DESCRIPTION:AGENDA \nMEETING PACKET \nTo Join Zoom Webinar: \nhttps://us06web.zoom.us/j/85927665466 \nPhone one-tap: \n+16699006833\,\,85927665466# US (San Jose) \n+14086380968\,\,85927665466# US (San Jose) \nJoin via audio: \n+1 669 900 6833 US (San Jose) \n+1 408 638 0968 US (San Jose) \n+1 669 444 9171 US \n+1 346 248 7799 US (Houston) \n+1 719 359 4580 US \n+1 253 205 0468 US \n+1 253 215 8782 US (Tacoma) \n+1 507 473 4847 US \n+1 564 217 2000 US \n+1 646 876 9923 US (New York) \n+1 646 931 3860 US \n+1 689 278 1000 US \n+1 301 715 8592 US (Washington DC) \n+1 305 224 1968 US \n+1 309 205 3325 US \n+1 312 626 6799 US (Chicago) \n+1 360 209 5623 US \n+1 386 347 5053 US \n  \nWebinar ID: 859 2766 5466 \nInternational numbers available: https://us06web.zoom.us/u/kbvzVeVy0p \n 
URL:https://www.nlacrc.org/calendar/special-board-of-trustees-meeting-3/
CATEGORIES:NLACRC Board
END:VEVENT
BEGIN:VEVENT
DTSTART;TZID=America/Los_Angeles:20251211T183000
DTEND;TZID=America/Los_Angeles:20251211T203000
DTSTAMP:20260424T145612
CREATED:20250821T193128Z
LAST-MODIFIED:20250821T193128Z
UID:10001043-1765477800-1765485000@www.nlacrc.org
SUMMARY:Armenian Parent Circle of Support Group
DESCRIPTION:Date & Time: December 11\, 2025 · 6:30 PM (PST)Location: Online via Zoom \nDescription:Join us for a virtual Armenian Parent Circle of Support\, a safe and supportive space for Armenian families to connect\, share their experiences\, and gain valuable resources. This session is hosted by the Family Focus Resource Center and the North Los Angeles County Regional Center. \nWhether you’re seeking guidance\, community\, or just a place to feel heard\, this gathering is here for you. \nRegistration is required in advance:https://www.csun.edu/family-focus-resource-center \n📧 Questions? Contact Katharyn Sinelli at: katharyn.sinelli@csun.edu \nWe look forward to seeing you there!
URL:https://www.nlacrc.org/calendar/armenian-parent-circle-of-support-group-4/
CATEGORIES:Meetings
END:VEVENT
BEGIN:VEVENT
DTSTART;TZID=America/Los_Angeles:20251212T093000
DTEND;TZID=America/Los_Angeles:20251212T110000
DTSTAMP:20260424T145612
CREATED:20250102T214017Z
LAST-MODIFIED:20250102T214251Z
UID:10000727-1765531800-1765537200@www.nlacrc.org
SUMMARY:El Poder del Amor y la Paciencia-Support Group in Person
DESCRIPTION:Un grupo de apoyo para padres con hijos con necesidades especiales en español. \nLas reuniones son presenciales el segundo viernes de cada mes de 9:30 am a 11:00am.\nDirección: Community Resource Center LA Care 7868 Van Nuys Blvd. Panorama City\, CA 91402 \nPara registrarse llame o envíe un correo electrónico a Rebeca a: (818) 677-6854 o rebeca.diaz@csun.edu \nReuniones en-persona: 10 de Enero\, 14 de Febrero\, 14 de Marzo\, 11 de Abril\, 9 de Mayo\, 13 de Junio\, Sin reunión Julio\, 8 de Agosto\, 12 de Septiembre\, 10 de Octubre\, 14 de Noviembre\, 12 de Diciembre
URL:https://www.nlacrc.org/calendar/el-poder-del-amor-y-la-paciencia-support-group-in-person-12/
CATEGORIES:Community,Events
END:VEVENT
BEGIN:VEVENT
DTSTART;TZID=America/Los_Angeles:20251216T100000
DTEND;TZID=America/Los_Angeles:20251216T113000
DTSTAMP:20260424T145612
CREATED:20241219T184217Z
LAST-MODIFIED:20250305T203333Z
UID:10000666-1765879200-1765884600@www.nlacrc.org
SUMMARY:Different Thinkers\, Different Learners-Diferentes Formas de Pensar\, Diferentes Formas de Aprender
DESCRIPTION:TOPIC: Culmination \n“Different Thinkers\, Different Learners” is an opportunity for you to learn and better understand your child’s different abilities. You will have access to ideas and tools to help your child with her or his learning skills. Mariana Leñero Solar is the series instructor. Ms. Leñero Solar is a psycho-educational consultant and the instructor for LRLC’s TIGER self-advocacy program designed and taught by Learning Rights to foster the tools of families in need to advocate within special education successfully. \nRegister Here\nMeeting Registration – Zoom \nThe resources listed above are for informational purposes only. NLACRC does not guarantee or warrant the accuracy\, relevance\, timeliness\, or completeness of the information contained on any linked website. Any reference to a specific product\, process\, or service does not constitute or imply an endorsement by NLACRC of the product\, service\, or provider. The views and opinions expressed in any linked website do not necessarily state or reflect those of NLACRC. \n“Diferentes maneras de pensar\, Diferentes maneras de aprender” es una oportunidad para que usted aprenda y comprenda mejor las diferentes habilidades de su hijo. Tendrá acceso a ideas y herramientas para ayudar a su hijo con sus habilidades de aprendizaje. Mariana Leñero Solar es la instructora de la serie. La Sra. Leñero Solar es consultora psicoeducativa e instructora del programa de autodefensa TIGER de LRLC diseñado y enseñado por Learning Rights para fomentar las herramientas de las familias que necesitan abogar con éxito dentro de la educación especial. \nRegístrese aquí\nMeeting Registration – Zoom \n Los recursos enumerados anteriormente son solo para fines informativos. NLACRC no garantiza la exactitud\, relevancia\, puntualidad o integridad de la información contenida en cualquier sitio web vinculado. Cualquier referencia a un producto\, proceso o servicio específico no constituye ni implica un respaldo por parte del NLACRC del producto\, servicio o proveedor. Los puntos de vista y opiniones expresados en cualquier sitio web vinculado no necesariamente establecen ni reflejan los de NLACRC. \n\n\n \n\n\n\n 
URL:https://www.nlacrc.org/calendar/different-thinkers-different-learners-diferentes-formas-de-pensar-diferentes-formas-de-aprender-17/
CATEGORIES:Events
END:VEVENT
BEGIN:VEVENT
DTSTART;TZID=America/Los_Angeles:20251216T110000
DTEND;TZID=America/Los_Angeles:20251216T143000
DTSTAMP:20260424T145612
CREATED:20250108T003401Z
LAST-MODIFIED:20250130T010217Z
UID:10000794-1765882800-1765895400@www.nlacrc.org
SUMMARY:Self Advocacy Meeting
DESCRIPTION:Zoom: \nhttps://rebrand.ly/Self-Advocacy-Group \nMeeting ID: 834 6448 8099\n \nPasscode: 922056 \n  \n 
URL:https://www.nlacrc.org/calendar/self-advocacy-meeting-3/2025-12-16/
CATEGORIES:Events
END:VEVENT
BEGIN:VEVENT
DTSTART;TZID=America/Los_Angeles:20251216T183000
DTEND;TZID=America/Los_Angeles:20251216T200000
DTSTAMP:20260424T145612
CREATED:20241106T000948Z
LAST-MODIFIED:20241106T000948Z
UID:10000519-1765909800-1765915200@www.nlacrc.org
SUMMARY:Rainbow Connection Social Group
DESCRIPTION:If you would like to download the flyer\, Rainbow Connection Social Group PDF \nClick here to join the Zoom meeting: Launch Meeting – Zoom
URL:https://www.nlacrc.org/calendar/rainbow-connection-social-group-15/
CATEGORIES:Meetings
END:VEVENT
BEGIN:VEVENT
DTSTART;TZID=America/Los_Angeles:20251217T100000
DTEND;TZID=America/Los_Angeles:20251217T113000
DTSTAMP:20260424T145612
CREATED:20251209T212230Z
LAST-MODIFIED:20251209T212230Z
UID:10001136-1765965600-1765971000@www.nlacrc.org
SUMMARY:Pregúntale a Mariana
DESCRIPTION:
URL:https://www.nlacrc.org/calendar/preguntale-a-mariana-28/
CATEGORIES:NLACRC Event
END:VEVENT
BEGIN:VEVENT
DTSTART;TZID=America/Los_Angeles:20251225T000000
DTEND;TZID=America/Los_Angeles:20251225T235959
DTSTAMP:20260424T145612
CREATED:20250710T210207Z
LAST-MODIFIED:20250710T210207Z
UID:10000949-1766620800-1766707199@www.nlacrc.org
SUMMARY:Christmas Day (Office Closed) (Oficinas cerradas)
DESCRIPTION:In observance of Christmas Day our offices will be closed on Thursday\, December 25th. \n\nIf you have a medical emergency\, please call 9-1-1. For urgent issues\, call our 24-hour\, after-hours phone line at (818) 778-1900. \n\nSi tiene una emergencia médica\, llame al 9-1-1. Para asuntos urgentes\, llame a nuestra línea telefónica las 24 horas después del horario de atención al (818) 778-1900.
URL:https://www.nlacrc.org/calendar/christmas-day-office-closed-oficinas-cerradas/
CATEGORIES:Events
END:VEVENT
END:VCALENDAR