BEGIN:VCALENDAR
VERSION:2.0
PRODID:-//North Los Angeles County - ECPv6.13.2.1//NONSGML v1.0//EN
CALSCALE:GREGORIAN
METHOD:PUBLISH
X-ORIGINAL-URL:https://www.nlacrc.org
X-WR-CALDESC:Events for North Los Angeles County
REFRESH-INTERVAL;VALUE=DURATION:PT1H
X-Robots-Tag:noindex
X-PUBLISHED-TTL:PT1H
BEGIN:VTIMEZONE
TZID:America/Los_Angeles
BEGIN:DAYLIGHT
TZOFFSETFROM:-0800
TZOFFSETTO:-0700
TZNAME:PDT
DTSTART:20240310T100000
END:DAYLIGHT
BEGIN:STANDARD
TZOFFSETFROM:-0700
TZOFFSETTO:-0800
TZNAME:PST
DTSTART:20241103T090000
END:STANDARD
END:VTIMEZONE
BEGIN:VEVENT
DTSTART;TZID=America/Los_Angeles:20241001T120000
DTEND;TZID=America/Los_Angeles:20241001T130000
DTSTAMP:20260425T140018
CREATED:20240930T212217Z
LAST-MODIFIED:20240930T223443Z
UID:10000398-1727784000-1727787600@www.nlacrc.org
SUMMARY:Servicos Comunes del Centro Regional
DESCRIPTION:
URL:https://www.nlacrc.org/calendar/servicos-comunes-del-centro-regional/
CATEGORIES:Meetings
ATTACH;FMTTYPE=image/png:https://www.nlacrc.org/wp-content/uploads/2024/09/navegador-comunitario-serie-de-talleres-2.png
END:VEVENT
BEGIN:VEVENT
DTSTART;TZID=America/Los_Angeles:20241002T120000
DTEND;TZID=America/Los_Angeles:20241002T130000
DTSTAMP:20260425T140018
CREATED:20240930T223019Z
LAST-MODIFIED:20240930T223048Z
UID:10000400-1727870400-1727874000@www.nlacrc.org
SUMMARY:Common Regional Center Services
DESCRIPTION:Community Navigator Workshop Series\, Part 2. \nJoin the Family Focus Resource Center Community Navigators at 12:00 pm on October 2nd for this informative training on Common Regional Center Services. We will discuss available services for every age group. \nRegister for this training on Zoom here: https://csun.zoom.us/meeting/register/tZMvce6rqD0qHNf57TFn3tUIAEVVzBGrMv6k
URL:https://www.nlacrc.org/calendar/common-regional-center-services/
CATEGORIES:Meetings
END:VEVENT
BEGIN:VEVENT
DTSTART;TZID=America/Los_Angeles:20241002T150000
DTEND;TZID=America/Los_Angeles:20241002T163000
DTSTAMP:20260425T140018
CREATED:20240919T192959Z
LAST-MODIFIED:20240930T185812Z
UID:10000373-1727881200-1727886600@www.nlacrc.org
SUMMARY:Consumer Advisory Committee Meeting
DESCRIPTION:Meetings are held on the first Wednesday of the month from 3:00 p.m. to 4:30 p.m. \nAll meetings will be held virtually through Zoom until further notice. \nJoin Zoom Meeting \nhttps://us06web.zoom.us/j/87280164927?pwd=d7rGgXtQqF7o3ZEeVfgAb306sApRFT.1 \nMeeting ID: 872 8016 4927 \nPasscode: 480150 \nMeeting Agenda \nMeeting Packet \nPeople who come to 5 meetings during a 12-month period become CAC members! \nIf you are an adult NLACRC consumer and would like to attend\, please contact jrodriguez@nlacrc.org. \nEmail boardsupport@nlacrc.org for translation services and/or additional accommodation you may need. Requests must be made five (5) business days before the meeting. \nPara obtener información sobre los servicios de traducción y/o las adaptaciones que pueda necesitar\, envíe un correo electrónico a boardsupport@nlacrc.org.”  Las solicitudes deben hacerse al menos cinco días hábiles antes de la reunión.
URL:https://www.nlacrc.org/calendar/consumer-advisory-committee-meeting-3/
CATEGORIES:Meetings
END:VEVENT
BEGIN:VEVENT
DTSTART;TZID=America/Los_Angeles:20241002T163000
DTEND;TZID=America/Los_Angeles:20241002T180000
DTSTAMP:20260425T140018
CREATED:20240819T205757Z
LAST-MODIFIED:20240828T200743Z
UID:10000328-1727886600-1727892000@www.nlacrc.org
SUMMARY:Support Group for Self Determination Program at NLACRC - Grupo de apoyo de NLACRC para el programa de autodeterminación
DESCRIPTION:Support Group for Self Determination Program at NLACRC  \nJoin other participants in the Self Determination Program (SDP) at NLACRC\, along with people interested in moving into the SDP\, to talk about challenges and successes we are experiencing in SDP at NLACRC. \nWe will attempt to solve problems and troubleshoot together! Join the SDP fun with Kelly and Kristianna from DVU. \nHosted by: Kelly Kulzer-Reyes\, DVU\, SDP Trainer Kristianna Moralls\, DVU\, Director of SDP \nSpanish interpretation and closed captioning provided. \n\nSep 4\, 2024 04:30 PM\nOct 2\, 2024 04:30 PM\nNov 6\, 2024 04:30 PM\nDec 4\, 2024 04:30 PM\n\nClick Here to Register \nZoom link in English and Spanish: \nhttps://us02web.zoom.us/meeting/register/tZctf-igqD0uGNXxR7STmImnRuCCmJjRQ9dC?fbclid=IwAR2-qnhuKwgCGKopUmoPpt9qxTz6h3tAv9qNk8s9X2H6lbC1ONnKqWf2W6M#/registration \n  \nGrupo de apoyo de NLACRC para el programa de autodeterminación  \nÚnete a los participantes del Programa de Autodeterminación (SDP) del NLACRC\, junto con personas interesadas en ingresar al SDP\, para hablar sobre los desafíos y éxitos que estamos pasando en el programa. \nSi tienes problemas que no podemos resolver juntos\, el equipo del grupo de apoyo compartirá los desafíos en tu nombre\, si deseas que lo hagamos en tu nombre. \nOrganizado por: Kelly Kulzer-Reyes\, DVU\, entrenadora de SDP & Kristianna Moralls\, DVU\, directora of SDP \nInterpretación en español y subtitulado. Haga clic aquí para registrarse 
URL:https://www.nlacrc.org/calendar/support-group-for-self-determination-program-at-nlacrc-grupo-de-apoyo-de-nlacrc-para-el-programa-de-autodeterminacion-2/2024-10-02/
CATEGORIES:NLACRC Event
ATTACH;FMTTYPE=image/png:https://www.nlacrc.org/wp-content/uploads/2024/08/untitled-design-2.png
END:VEVENT
BEGIN:VEVENT
DTSTART;TZID=America/Los_Angeles:20241002T173000
DTEND;TZID=America/Los_Angeles:20241002T173000
DTSTAMP:20260425T140018
CREATED:20240919T195033Z
LAST-MODIFIED:20240930T185645Z
UID:10000293-1727890200-1727890200@www.nlacrc.org
SUMMARY:Nominating Committee Meeting
DESCRIPTION:Join us here: https://us06web.zoom.us/j/88510423170?pwd=3DlUzRNGJCEcobvR1a7b201uzJaFMP.1 \nMeeting ID: 885 1042 3170 \nPasscode: 541055 \nMeeting Agenda \nMeeting Packet \nEmail boardsupport@nlacrc.org for translation services and/or additional accommodation you may need. Requests must be made five (5) business days before the meeting. \nPara obtener información sobre los servicios de traducción y/o las adaptaciones que pueda necesitar\, envíe un correo electrónico a boardsupport@nlacrc.org.” Las solicitudes deben hacerse al menos cinco días hábiles antes de la reunión.
URL:https://www.nlacrc.org/calendar/nominating-committee-meeting-5/
CATEGORIES:Legislative,Meetings
ATTACH;FMTTYPE=image/png:https://www.nlacrc.org/wp-content/uploads/2024/08/untitled-design-2.png
END:VEVENT
BEGIN:VEVENT
DTSTART;TZID=America/Los_Angeles:20241002T183000
DTEND;TZID=America/Los_Angeles:20241002T203000
DTSTAMP:20260425T140018
CREATED:20240930T223705Z
LAST-MODIFIED:20240930T223705Z
UID:10000401-1727893800-1727901000@www.nlacrc.org
SUMMARY:Black and African American Support Group
DESCRIPTION:
URL:https://www.nlacrc.org/calendar/black-and-african-american-support-group/
CATEGORIES:Meetings
ATTACH;FMTTYPE=image/png:https://www.nlacrc.org/wp-content/uploads/2024/09/black---african-american-support-group-2024-1.png
END:VEVENT
BEGIN:VEVENT
DTSTART;TZID=America/Los_Angeles:20241003T093000
DTEND;TZID=America/Los_Angeles:20241003T110000
DTSTAMP:20260425T140018
CREATED:20240930T185849Z
LAST-MODIFIED:20240930T190041Z
UID:10000329-1727947800-1727953200@www.nlacrc.org
SUMMARY:Vendor Advisory Committee
DESCRIPTION:Agenda \nMeeting Packet \nJoin us here:  https://us06web.zoom.us/j/84355686061 \nMeeting ID: 843 5568 6061 \nPasscode: 118534 \nEmail boardsupport@nlacrc.org for translation services and/or additional accommodation you may need. Requests must be made five (5) business days before the meeting. Para obtener información sobre los servicios de traducción y/o las adaptaciones que pueda necesitar\, envíe un correo electrónico a boardsupport@nlacrc.org.” Las solicitudes deben hacerse al menos cinco días hábiles antes de la reunión.
URL:https://www.nlacrc.org/calendar/vendor-advisory-committee-9-2/
CATEGORIES:Meetings
ATTACH;FMTTYPE=image/png:https://www.nlacrc.org/wp-content/uploads/2024/08/untitled-design-2.png
END:VEVENT
BEGIN:VEVENT
DTSTART;TZID=America/Los_Angeles:20241003T100000
DTEND;TZID=America/Los_Angeles:20241003T130000
DTSTAMP:20260425T140018
CREATED:20240919T221056Z
LAST-MODIFIED:20240919T221152Z
UID:10000396-1727949600-1727960400@www.nlacrc.org
SUMMARY:OCRA 25-Year Celebration Event
DESCRIPTION:Join OCRA for gatherings across the state to recognize 25 years of making a difference for Regional Center clients and their families! \n2024 is the 25-year anniversary of the Office of Clients’ Rights Advocacy (OCRA) providing independent advocacy services for Regional Center clients! In honor of this milestone\, OCRA is holding open house events to celebrate with you! \nWhen:\nThursday\, October 3\, 2024\n10:00 AM – 1:00 PM Pacific Time \nWhere:\nOn-site at multiple locations around the state. Find a location by registering below. \nRegister here: Celebrate the 25th Anniversary of the Office of Clients’ Rights Advocacy (OCRA) with Us | Disability Rights California
URL:https://www.nlacrc.org/calendar/ocra-25-year-celebration-event/
CATEGORIES:Community,Events
ATTACH;FMTTYPE=image/png:https://www.nlacrc.org/wp-content/uploads/2024/09/ocra.png
END:VEVENT
BEGIN:VEVENT
DTSTART;TZID=America/Los_Angeles:20241003T183000
DTEND;TZID=America/Los_Angeles:20241003T203000
DTSTAMP:20260425T140018
CREATED:20240930T232223Z
LAST-MODIFIED:20240930T232236Z
UID:10000402-1727980200-1727987400@www.nlacrc.org
SUMMARY:Armenian Parent Circle of Support
DESCRIPTION:
URL:https://www.nlacrc.org/calendar/armenian-parent-circle-of-support-3/
CATEGORIES:Meetings
ATTACH;FMTTYPE=image/png:https://www.nlacrc.org/wp-content/uploads/2024/09/armenian-parent-circle-of-support-1.png
END:VEVENT
BEGIN:VEVENT
DTSTART;TZID=America/Los_Angeles:20241004T160000
DTEND;TZID=America/Los_Angeles:20241004T180000
DTSTAMP:20260425T140018
CREATED:20240910T205510Z
LAST-MODIFIED:20240910T214753Z
UID:10000355-1728057600-1728064800@www.nlacrc.org
SUMMARY:Voter Registration Session
DESCRIPTION:If you are an adult NLACRC consumer and would like to attend\, please contact email jrodriguez@nlacrc.org or 818-756-6289 for translation services and/or additional accommodation you may need. Requests must be made five (5) business days before the meeting. \nSi es un consumidor adulto del NLACRC y desea asistir\, comuníquese con jrodriguez@nlacrc.org o 818-756-6289. Para obtener información sobre los servicios de traducción y/o las adaptaciones que pueda necesitar. Las solicitudes deben hacerse al menos cinco días hábiles antes de la reunión.
URL:https://www.nlacrc.org/calendar/voter-registration-session-2/
CATEGORIES:NLACRC Event
END:VEVENT
BEGIN:VEVENT
DTSTART;TZID=America/Los_Angeles:20241007T090000
DTEND;TZID=America/Los_Angeles:20241007T100000
DTSTAMP:20260425T140018
CREATED:20241002T020334Z
LAST-MODIFIED:20241008T213601Z
UID:10000231-1728291600-1728295200@www.nlacrc.org
SUMMARY:Self-Determination Orientation
DESCRIPTION:Self-Determination Orientations \nOrientation meetings are required for consumers who want to participate in the Self-Determination Program (SDP). \nRSVPs are required as the schedule is subject to change. Click here to RSVP for the next self-determination orientation. \nSDP orientations are currently being conducted virtually\, and you can attend by computer or phone.  We are not currently conducting these meetings in our offices.  \nPlease email selfdetermination@nlacrc.org if you have any additional questions or require further assistance.
URL:https://www.nlacrc.org/calendar/self-determination-orientation-4-2/
CATEGORIES:NLACRC Event
ATTACH;FMTTYPE=image/png:https://www.nlacrc.org/wp-content/uploads/2024/08/untitled-design-2.png
END:VEVENT
BEGIN:VEVENT
DTSTART;TZID=America/Los_Angeles:20241007T093000
DTEND;TZID=America/Los_Angeles:20241007T113000
DTSTAMP:20260425T140018
CREATED:20241002T191451Z
LAST-MODIFIED:20241003T221729Z
UID:10000477-1728293400-1728300600@www.nlacrc.org
SUMMARY:The ASL Shop - Understanding DeafPlus
DESCRIPTION:Registration Link: https://www.eventbrite.com/e/understanding-deafplus-communication-strategies-and-inclusive-practices-tickets-1009543089557?aff=oddtdtcreator \nhttps://www.signupmedia.com/
URL:https://www.nlacrc.org/calendar/the-asl-shop-understanding-deafplus/
CATEGORIES:Events
ATTACH;FMTTYPE=image/png:https://www.nlacrc.org/wp-content/uploads/2024/10/understanding-deafplus-with-the-asl-shop.png
END:VEVENT
BEGIN:VEVENT
DTSTART;TZID=America/Los_Angeles:20241008T120000
DTEND;TZID=America/Los_Angeles:20241008T130000
DTSTAMP:20260425T140018
CREATED:20240930T232437Z
LAST-MODIFIED:20240930T232437Z
UID:10000403-1728388800-1728392400@www.nlacrc.org
SUMMARY:Fundamentos del IEP: Preparando y Empoderando a los Padres para el IEP de sus Hijos
DESCRIPTION:
URL:https://www.nlacrc.org/calendar/fundamentos-del-iep-preparando-y-empoderando-a-los-padres-para-el-iep-de-sus-hijos/
CATEGORIES:Meetings
ATTACH;FMTTYPE=image/png:https://www.nlacrc.org/wp-content/uploads/2024/09/fundamentos-del-iep-1.png
END:VEVENT
BEGIN:VEVENT
DTSTART;TZID=America/Los_Angeles:20241009T120000
DTEND;TZID=America/Los_Angeles:20241009T130000
DTSTAMP:20260425T140018
CREATED:20241001T202944Z
LAST-MODIFIED:20241001T210515Z
UID:10000407-1728475200-1728478800@www.nlacrc.org
SUMMARY:IEP Essentials: Empowering & Preparing Parents for their Child's IEP
DESCRIPTION:This monthly training will help parents learn basic information about the IEP\, to more advanced strategies on steps you can take when you don’t agree with your IEP. Participating parents will receive a FREE digital download to help you create your IEP binder at home! \nFor more information\, please contact Diana at diana.chulak@csun.edu. \nTo register\, please visit: https://csun.zoom.us/meeting/register/tZMrcu-qqz0pGNF69ZEI7UQa0JevLhe8jUS0
URL:https://www.nlacrc.org/calendar/iep-essentials-empowering-preparing-parents-for-their-childs-iep/
CATEGORIES:Community,Meetings
ATTACH;FMTTYPE=image/png:https://www.nlacrc.org/wp-content/uploads/2024/10/iep-essentials.png
END:VEVENT
BEGIN:VEVENT
DTSTART;TZID=America/Los_Angeles:20241009T180000
DTEND;TZID=America/Los_Angeles:20241009T180000
DTSTAMP:20260425T140018
CREATED:20240912T014955Z
LAST-MODIFIED:20241009T204844Z
UID:10000168-1728496800-1728496800@www.nlacrc.org
SUMMARY:Board of Trustees Meeting
DESCRIPTION:NLACRC Board meetings are open to the public and everyone is welcome to attend them. Dates and times of these meetings may be subject to change. \nAgenda \nMeeting Packet \nAttachment #1 Director’s Report \nThe meeting will be held in office and virtually via Zoom. \nLocation:\nSan Fernando Valley (Main office)\n9200 Oakdale Ave.\, Suite 100\nChatsworth\, CA 91311 \nIf you are interested in participating in a meeting and you would like more info\, please contact boardsupport@nlacrc.org. \nJoin Zoom Meeting \nhttps://us06web.zoom.us/j/85005977187?pwd=kN7aqZMJw7XXdGpGTNEp0HlaPs7OGL.1  \nMeeting ID: 850 0597 7187 \nPasscode: 972870 \nEmail boardsupport@nlacrc.org for translation services and/or additional accommodation you may need. Requests must be made five (5) business days before the meeting. \nPara obtener información sobre los servicios de traducción y/o las adaptaciones que pueda necesitar\, envíe un correo electrónico a boardsupport@nlacrc.org.” Las solicitudes deben hacerse al menos cinco días hábiles antes de la reunion.
URL:https://www.nlacrc.org/calendar/board-of-trustees-meeting-7/
CATEGORIES:NLACRC Board
ATTACH;FMTTYPE=image/png:https://www.nlacrc.org/wp-content/uploads/2024/08/untitled-design-2.png
END:VEVENT
BEGIN:VEVENT
DTSTART;TZID=America/Los_Angeles:20241010T093000
DTEND;TZID=America/Los_Angeles:20241010T110000
DTSTAMP:20260425T140018
CREATED:20240823T232910Z
LAST-MODIFIED:20240910T200252Z
UID:10000353-1728552600-1728558000@www.nlacrc.org
SUMMARY:Community Learning Forums
DESCRIPTION:https://us06web.zoom.us/j/83547771365?pwd=7dmIR68s1UIrPIgd2pEhYcPhhbruig.1
URL:https://www.nlacrc.org/calendar/community-learning-forums-2/2024-10-10/
CATEGORIES:Events
ATTACH;FMTTYPE=image/png:https://www.nlacrc.org/wp-content/uploads/2024/08/untitled-design-2.png
END:VEVENT
BEGIN:VEVENT
DTSTART;TZID=America/Los_Angeles:20241010T123000
DTEND;TZID=America/Los_Angeles:20241010T130000
DTSTAMP:20260425T140018
CREATED:20241001T203309Z
LAST-MODIFIED:20241001T203342Z
UID:10000408-1728563400-1728565200@www.nlacrc.org
SUMMARY:Parent Check-In & Chat
DESCRIPTION:
URL:https://www.nlacrc.org/calendar/parent-check-in-chat/
CATEGORIES:Community,Meetings
ATTACH;FMTTYPE=image/png:https://www.nlacrc.org/wp-content/uploads/2024/10/parent-check-in---chat-2024-fall.png
END:VEVENT
BEGIN:VEVENT
DTSTART;TZID=America/Los_Angeles:20241010T140000
DTEND;TZID=America/Los_Angeles:20241010T150000
DTSTAMP:20260425T140018
CREATED:20241009T202124Z
LAST-MODIFIED:20241009T202124Z
UID:10000485-1728568800-1728572400@www.nlacrc.org
SUMMARY:SDP Independent Facilitator Round Table
DESCRIPTION:Independent Facilitator Round Table Monthly Meeting \nAre you an Independent Facilitator (IF) working with Self-Determination participants at NLACRC? \nWe invite you to join our monthly IF round table! \nWhen: 2nd Thursday of the month at 2pm. \nWhere: Zoom\, register in advance for this meeting: \nClick here to register for the IF round table
URL:https://www.nlacrc.org/calendar/sdp-independent-facilitator-round-table-2/
CATEGORIES:Events
END:VEVENT
BEGIN:VEVENT
DTSTART;TZID=America/Los_Angeles:20241011T093000
DTEND;TZID=America/Los_Angeles:20241011T110000
DTSTAMP:20260425T140018
CREATED:20241001T203924Z
LAST-MODIFIED:20241001T203924Z
UID:10000409-1728639000-1728644400@www.nlacrc.org
SUMMARY:El Poder del Amor y la Paciencia (In-Person)
DESCRIPTION:
URL:https://www.nlacrc.org/calendar/el-poder-del-amor-y-la-paciencia-in-person/
CATEGORIES:Community,Meetings
ATTACH;FMTTYPE=image/jpeg:https://www.nlacrc.org/wp-content/uploads/2024/10/2024-el-poder-del-amor-y-la-paciencia.jpg
END:VEVENT
BEGIN:VEVENT
DTSTART;TZID=America/Los_Angeles:20241012T100000
DTEND;TZID=America/Los_Angeles:20241012T130000
DTSTAMP:20260425T140018
CREATED:20241001T003436Z
LAST-MODIFIED:20241001T003436Z
UID:10000405-1728727200-1728738000@www.nlacrc.org
SUMMARY:Farsi Family Picnic
DESCRIPTION:You’re invited to A FARSI FAMILY PICNIC \nSaturday\, October 12th\, 2024\n10:00AM – 1:00 PM \nPlease RSVP to Nahid Abouzar at (818) 756-6487 by October 2nd \nDon’t forget to bring a dish of your choice to share with others! \n 
URL:https://www.nlacrc.org/calendar/farsi-family-picnic/
CATEGORIES:NLACRC Event
END:VEVENT
BEGIN:VEVENT
DTSTART;TZID=America/Los_Angeles:20241015T110000
DTEND;TZID=America/Los_Angeles:20241015T123000
DTSTAMP:20260425T140018
CREATED:20240823T232716Z
LAST-MODIFIED:20241010T004159Z
UID:10000307-1728990000-1728995400@www.nlacrc.org
SUMMARY:Self Advocacy Meeting/Self Advocacy Academy
DESCRIPTION:Develop skills for building meaningful connections and setting healthy boundaries. \nJoin via Zoom: https://us06web.zoom.us/j/89409430403?pwd=muROgAJtU5CSax7lO6V7laO135pfya.1# \n \n  \n  \nDesarrollar habilidades para construir conexiones significativas y establecer limites saludables. \n \nUnirse a través de Zoom: https://us06web.zoom.us/j/89409430403?pwd=muROgAJtU5CSax7lO6V7laO135pfya.1#success 
URL:https://www.nlacrc.org/calendar/self-advocacy-meeting-self-advocacy-academy-4/
CATEGORIES:Community
ATTACH;FMTTYPE=image/png:https://www.nlacrc.org/wp-content/uploads/2024/08/untitled-design-2.png
END:VEVENT
BEGIN:VEVENT
DTSTART;TZID=America/Los_Angeles:20241016T180000
DTEND;TZID=America/Los_Angeles:20241016T180000
DTSTAMP:20260425T140018
CREATED:20240919T194420Z
LAST-MODIFIED:20250207T233326Z
UID:10000171-1729101600-1729101600@www.nlacrc.org
SUMMARY:Government & Community Relations Committee Meeting
DESCRIPTION:If you are interested in participating in a meeting and you would like to more info\, please contact BoardSupport@nlacrc.org. \nAGENDA \n10.GCRCMins_Oct.16_2024_KV \nMEETING PACKET \nJoin Zoom Meeting \nhttps://us06web.zoom.us/j/86379550153?pwd=oJrkJqVdxfL5oapb9qmpNogm5arReC.1 \nMeeting ID: 863 7955 0153 \nPasscode: 130507 \nEmail boardsupport@nlacrc.org for translation services and/or additional accommodation you may need. Requests must be made five (5) business days before the meeting. \nPara obtener información sobre los servicios de traducción y/o las adaptaciones que pueda necesitar\, envíe un correo electrónico a boardsupport@nlacrc.org.” Las solicitudes deben hacerse al menos cinco días hábiles antes de la reunión.
URL:https://www.nlacrc.org/calendar/government-community-relations-committee-meeting-3/
CATEGORIES:Legislative,Meetings
ATTACH;FMTTYPE=image/png:https://www.nlacrc.org/wp-content/uploads/2024/08/untitled-design-2.png
END:VEVENT
BEGIN:VEVENT
DTSTART;TZID=America/Los_Angeles:20241016T183000
DTEND;TZID=America/Los_Angeles:20241016T203000
DTSTAMP:20260425T140018
CREATED:20241001T204821Z
LAST-MODIFIED:20241001T204821Z
UID:10000410-1729103400-1729110600@www.nlacrc.org
SUMMARY:Parents of Adult Consumers (PAC) Support Group
DESCRIPTION:
URL:https://www.nlacrc.org/calendar/parents-of-adult-consumers-pac-support-group/
CATEGORIES:Community,Meetings
ATTACH;FMTTYPE=image/png:https://www.nlacrc.org/wp-content/uploads/2024/10/parents-of-adult-consumers-2023.png
END:VEVENT
BEGIN:VEVENT
DTSTART;TZID=America/Los_Angeles:20241017T130000
DTEND;TZID=America/Los_Angeles:20241017T140000
DTSTAMP:20260425T140018
CREATED:20240826T153812Z
LAST-MODIFIED:20241001T010819Z
UID:10000326-1729170000-1729173600@www.nlacrc.org
SUMMARY:Town Hall/Ayuntamiento Virtual
DESCRIPTION:Topic: Mental Health Awareness \nJoin the Zoom: https://us06web.zoom.us/j/83694229918
URL:https://www.nlacrc.org/calendar/town-hall-ayuntamiento-virtual-2/
CATEGORIES:Community,Public Meetings
ATTACH;FMTTYPE=image/png:https://www.nlacrc.org/wp-content/uploads/2024/08/untitled-design-2.png
END:VEVENT
BEGIN:VEVENT
DTSTART;TZID=America/Los_Angeles:20241017T130000
DTEND;TZID=America/Los_Angeles:20241017T140000
DTSTAMP:20260425T140018
CREATED:20241001T205057Z
LAST-MODIFIED:20241001T210303Z
UID:10000411-1729170000-1729173600@www.nlacrc.org
SUMMARY:Early Start Bilingual Support Group / Comienzo Temprano Grupo de Apoyo Bilingual
DESCRIPTION:Early Start Bilingual Support Group / Comienzo Temprano Grupo de Apoyo Bilingual Join us for this fun group for parents and caregivers of children under 3. We will talk and share about our experiences and challenges in the early years. This group will be held in English & Spanish. Register for the Zoom meeting here: https://csun.zoom.us/meeting/register/tZ0ocuyqqD4iHtLM9R-kl3N1tSqAAPlgJWXo \nÚnase a nosotros en este divertido grupo para padres y cuidadores de niños menores de 3 años. Hablaremos y compartiremos sobre nuestras experiencias y desafíos en los primeros años. Este grupo se llevará a cabo en Inglés y Español. Registrese para el grupo en linea aqui: https://csun.zoom.us/meeting/register/tZ0ocuyqqD4iHtLM9R-kl3N1tSqAAPlgJWXo \nThis group will meet on Zoom at 1 pm on August 22\, October 17\, and November 15. There will be an in-person playdate (location TBA) on September 21.
URL:https://www.nlacrc.org/calendar/early-start-bilingual-support-group-comienzo-temprano-grupo-de-apoyo-bilingual-2/
CATEGORIES:Community,Meetings
ATTACH;FMTTYPE=image/png:https://www.nlacrc.org/wp-content/uploads/2024/10/early-start-bilingual-support-group-english-version.png
END:VEVENT
BEGIN:VEVENT
DTSTART;TZID=America/Los_Angeles:20241017T183000
DTEND;TZID=America/Los_Angeles:20241017T203000
DTSTAMP:20260425T140018
CREATED:20240823T232751Z
LAST-MODIFIED:20241004T211722Z
UID:10000308-1729189800-1729197000@www.nlacrc.org
SUMMARY:Self-Determination Local Advisory Meeting
DESCRIPTION:Agenda \n  \nhttps://zoom.us/j/97413501392?pwd=dU1RSWxFeXZnQmhUTStZbWpTSjU2Zz09
URL:https://www.nlacrc.org/calendar/self-determination-local-advisory-meeting/
CATEGORIES:Events
END:VEVENT
BEGIN:VEVENT
DTSTART;TZID=America/Los_Angeles:20241018T100000
DTEND;TZID=America/Los_Angeles:20241018T110000
DTSTAMP:20260425T140018
CREATED:20241002T194508Z
LAST-MODIFIED:20241002T200046Z
UID:10000478-1729245600-1729249200@www.nlacrc.org
SUMMARY:AV "Together We Shine" Support Group!
DESCRIPTION:Join us in person! \n  \nAddress: FFRC AV office 43850 10th St West\, Lancaster
URL:https://www.nlacrc.org/calendar/av-together-we-shine-support-group/
CATEGORIES:Community,Meetings
ATTACH;FMTTYPE=image/png:https://www.nlacrc.org/wp-content/uploads/2024/10/av-support-group.png
END:VEVENT
BEGIN:VEVENT
DTSTART;TZID=America/Los_Angeles:20241019T100000
DTEND;TZID=America/Los_Angeles:20241019T140000
DTSTAMP:20260425T140018
CREATED:20241008T162249Z
LAST-MODIFIED:20241008T165552Z
UID:10000482-1729332000-1729346400@www.nlacrc.org
SUMMARY:HCBS Conference 2024
DESCRIPTION:Attention Los Angeles families! Know your rights when it comes to HCBS setting. \nTOPICS FOR DISCUSSION: \n\nRight to privacy and dignity\nRight to individualized services\nRight to freedom of choice\nRight to community integration\nRight to health and safety\nRight to information and communication\n\nReserve your spot: Home and Community Based Services Final Rule Tickets\, Sat\, Oct 19\, 2024 at 10:00 AM | Eventbrite \n \n 
URL:https://www.nlacrc.org/calendar/hcbs-conference-2024/
CATEGORIES:NLACRC Event
END:VEVENT
BEGIN:VEVENT
DTSTART;TZID=America/Los_Angeles:20241019T100000
DTEND;TZID=America/Los_Angeles:20241019T140000
DTSTAMP:20260425T140018
CREATED:20241008T165744Z
LAST-MODIFIED:20241008T165933Z
UID:10000483-1729332000-1729346400@www.nlacrc.org
SUMMARY:HBCS Conference 2024 Spanish
DESCRIPTION:Atención familias de Los Ángeles! Conoce tus derechos cuando se trata de configuraciones HCBS \nTEMAS DE DISCUSIÓN: \n\nDerecho a la privacidad y la dignidad\nDerecho a servicios individualizados\nDerecho a la libertad de elección\nDerecho a la integración comunitaria\nDerecho a la salud y la seguridad\nDerecho a la información y a la comunicación\n\nReserva tu lugar: Home and Community Based Services Final Rule Tickets\, Sat\, Oct 19\, 2024 at 10:00 AM | Eventbrite
URL:https://www.nlacrc.org/calendar/hbcs-conference-2024-spanish/
CATEGORIES:NLACRC Event
END:VEVENT
BEGIN:VEVENT
DTSTART;TZID=America/Los_Angeles:20241019T110000
DTEND;TZID=America/Los_Angeles:20241019T140000
DTSTAMP:20260425T140018
CREATED:20240906T234327Z
LAST-MODIFIED:20240906T234327Z
UID:10000346-1729335600-1729346400@www.nlacrc.org
SUMMARY:All Abilities Resource Fair (FFRC)
DESCRIPTION:Join us at our All Abilities Resource Fair on October 19th!\nAttendees do not need to register – just come!\nAt CSUN’s All Abilities Resource Fair\, we are dedicated to creating an inclusive and welcoming environment where every family feels valued and supported. Our fair provides a unique opportunity for families to come together\, access a wealth of disability resources\, and secure professional services all in one convenient location. We believe in empowering individuals of all abilities and fostering a sense of community through education\, support\, and connection. Join us for a day of discovery\, learning\, and empowerment\, where every family can find the resources and services they need to thrive. \nSponsorships are available now! Exhibitor registration will open on July 15\, 2024 and a limited number will be available so reserve your table early!
URL:https://www.nlacrc.org/calendar/all-abilities-resource-fair-ffrc/
CATEGORIES:Community
END:VEVENT
END:VCALENDAR