BEGIN:VCALENDAR
VERSION:2.0
PRODID:-//North Los Angeles County - ECPv6.13.2.1//NONSGML v1.0//EN
CALSCALE:GREGORIAN
METHOD:PUBLISH
X-WR-CALNAME:North Los Angeles County
X-ORIGINAL-URL:https://www.nlacrc.org
X-WR-CALDESC:Events for North Los Angeles County
REFRESH-INTERVAL;VALUE=DURATION:PT1H
X-Robots-Tag:noindex
X-PUBLISHED-TTL:PT1H
BEGIN:VTIMEZONE
TZID:America/Los_Angeles
BEGIN:DAYLIGHT
TZOFFSETFROM:-0800
TZOFFSETTO:-0700
TZNAME:PDT
DTSTART:20240310T100000
END:DAYLIGHT
BEGIN:STANDARD
TZOFFSETFROM:-0700
TZOFFSETTO:-0800
TZNAME:PST
DTSTART:20241103T090000
END:STANDARD
END:VTIMEZONE
BEGIN:VEVENT
DTSTART;TZID=America/Los_Angeles:20240701T090000
DTEND;TZID=America/Los_Angeles:20240701T100000
DTSTAMP:20260425T183447
CREATED:20240626T164859Z
LAST-MODIFIED:20240820T144915Z
UID:10000011-1719824400-1719828000@www.nlacrc.org
SUMMARY:Self-Determination Orientation
DESCRIPTION:Self-Determination Orientations \nOrientation meetings are required for consumers who want to participate in the Self-Determination Program (SDP). \nRSVPs are required as the schedule is subject to change. Click here to RSVP for the next self-determination orientation. \nSDP orientations are currently being conducted virtually\, and you can attend by computer or phone.  We are not currently conducting these meetings in our offices.  \nPlease email selfdetermination@nlacrc.org if you have any additional questions or require further assistance.
URL:https://www.nlacrc.org/calendar/self-determination-orientation/2024-07-01/
CATEGORIES:NLACRC Event
END:VEVENT
BEGIN:VEVENT
DTSTART;TZID=America/Los_Angeles:20240727T100000
DTEND;TZID=America/Los_Angeles:20240727T113000
DTSTAMP:20260425T183447
CREATED:20240906T193432Z
LAST-MODIFIED:20240909T045722Z
UID:10000337-1722074400-1722079800@www.nlacrc.org
SUMMARY:Different Thinkers\, Different Learners-Diferentes Formas de Pensar\, Diferentes Formas de Aprender
DESCRIPTION:TOPIC: What are Executive Functions disorders \n“Different Thinkers\, Different Learners” is an opportunity for you to learn and better understand your child’s different abilities. You will have access to ideas and tools to help your child with her or his learning skills. Mariana Leñero Solar is the series instructor. Ms. Leñero Solar is a psycho-educational consultant and the instructor for LRLC’s TIGER self-advocacy program designed and taught by Learning Rights to foster the tools of families in need to advocate within special education successfully. \nRegister Here\nMeeting Registration – Zoom \nThe resources listed above are for informational purposes only. NLACRC does not guarantee or warrant the accuracy\, relevance\, timeliness\, or completeness of the information contained on any linked website. Any reference to a specific product\, process\, or service does not constitute or imply an endorsement by NLACRC of the product\, service\, or provider. The views and opinions expressed in any linked website do not necessarily state or reflect those of NLACRC. \n“Diferentes maneras de pensar\, Diferentes maneras de aprender” es una oportunidad para que usted aprenda y comprenda mejor las diferentes habilidades de su hijo. Tendrá acceso a ideas y herramientas para ayudar a su hijo con sus habilidades de aprendizaje. Mariana Leñero Solar es la instructora de la serie. La Sra. Leñero Solar es consultora psicoeducativa e instructora del programa de autodefensa TIGER de LRLC diseñado y enseñado por Learning Rights para fomentar las herramientas de las familias que necesitan abogar con éxito dentro de la educación especial. \nRegístrese aquí\nMeeting Registration – Zoom \n Los recursos enumerados anteriormente son solo para fines informativos. NLACRC no garantiza la exactitud\, relevancia\, puntualidad o integridad de la información contenida en cualquier sitio web vinculado. Cualquier referencia a un producto\, proceso o servicio específico no constituye ni implica un respaldo por parte del NLACRC del producto\, servicio o proveedor. Los puntos de vista y opiniones expresados en cualquier sitio web vinculado no necesariamente establecen ni reflejan los de NLACRC.
URL:https://www.nlacrc.org/calendar/different-thinkers-different-learners-6/
CATEGORIES:Community
ATTACH;FMTTYPE=image/jpeg:https://www.nlacrc.org/wp-content/uploads/2024/06/Rectangle-5541.jpg
END:VEVENT
END:VCALENDAR