BEGIN:VCALENDAR
VERSION:2.0
PRODID:-//North Los Angeles County - ECPv6.13.2.1//NONSGML v1.0//EN
CALSCALE:GREGORIAN
METHOD:PUBLISH
X-ORIGINAL-URL:https://www.nlacrc.org
X-WR-CALDESC:Events for North Los Angeles County
REFRESH-INTERVAL;VALUE=DURATION:PT1H
X-Robots-Tag:noindex
X-PUBLISHED-TTL:PT1H
BEGIN:VTIMEZONE
TZID:America/Los_Angeles
BEGIN:DAYLIGHT
TZOFFSETFROM:-0800
TZOFFSETTO:-0700
TZNAME:PDT
DTSTART:20240310T100000
END:DAYLIGHT
BEGIN:STANDARD
TZOFFSETFROM:-0700
TZOFFSETTO:-0800
TZNAME:PST
DTSTART:20241103T090000
END:STANDARD
END:VTIMEZONE
BEGIN:VEVENT
DTSTART;TZID=America/Los_Angeles:20240603T090000
DTEND;TZID=America/Los_Angeles:20240603T100000
DTSTAMP:20260425T201203
CREATED:20240626T164859Z
LAST-MODIFIED:20240820T144915Z
UID:10000012-1717405200-1717408800@www.nlacrc.org
SUMMARY:Self-Determination Orientation
DESCRIPTION:Self-Determination Orientations \nOrientation meetings are required for consumers who want to participate in the Self-Determination Program (SDP). \nRSVPs are required as the schedule is subject to change. Click here to RSVP for the next self-determination orientation. \nSDP orientations are currently being conducted virtually\, and you can attend by computer or phone.  We are not currently conducting these meetings in our offices.  \nPlease email selfdetermination@nlacrc.org if you have any additional questions or require further assistance.
URL:https://www.nlacrc.org/calendar/self-determination-orientation/2024-06-03/
CATEGORIES:NLACRC Event
END:VEVENT
BEGIN:VEVENT
DTSTART;TZID=America/Los_Angeles:20240603T171500
DTEND;TZID=America/Los_Angeles:20240603T181500
DTSTAMP:20260425T201203
CREATED:20240626T165600Z
LAST-MODIFIED:20240626T173150Z
UID:10000072-1717434900-1717438500@www.nlacrc.org
SUMMARY:Recruitment Committee Meeting
DESCRIPTION:Recruitment Committee Meeting \nJoin Zoom Meeting \nhttps://us06web.zoom.us/j/84737130208?pwd=gGkEMmM2bNBugZnQC2RTOef50bkjgw.1 \nMeeting ID: 847 3713 0208 \nPasscode: 498469 \nEmail boardsupport@nlacrc.org for translation services and/or additional accommodation you may need. Requests must be made five (5) business days before the meeting.
URL:https://www.nlacrc.org/calendar/recruitment-committee-meeting/
END:VEVENT
BEGIN:VEVENT
DTSTART;TZID=America/Los_Angeles:20240604T100000
DTEND;TZID=America/Los_Angeles:20240604T113000
DTSTAMP:20260425T201203
CREATED:20240626T172746Z
LAST-MODIFIED:20240626T181420Z
UID:10000073-1717495200-1717500600@www.nlacrc.org
SUMMARY:2022 Performance Contract Public Meeting
DESCRIPTION:Performance Contract Public Meeting\n\nTime: June 4\, 2024\n10:00 AM\nhttps://rebrand.ly/PerformanceContractAM \nMeeting ID: 811 6399 5119\nPasscode: 041214 \nPresented in English with Spanish\, Armenian\, Farsi\, and Tagalog interpretation. Information will be the same at both meetings.  \n\n\nIf you need interpretation in other languages\, please contact publicinfo@nlacrc.org or call (818) 245-5571. Please email us five (5) business days before the meeting so we may accommodate your requests. \n\n\n___ \n\n\nComplete our brief survey to give us your input about local goals for the Performance Contract! \n\n\n>>View the Performance Contract Survey \n\n\n ___ \n\n\nPerformance Contracts & Related Information\n>>View the Board & DDS approved Performance Contracts \n\n\n\n>>Click here to view the flyer
URL:https://www.nlacrc.org/calendar/2022-performance-contract-public-meeting/
END:VEVENT
BEGIN:VEVENT
DTSTART;TZID=America/Los_Angeles:20240604T140000
DTEND;TZID=America/Los_Angeles:20240604T160000
DTSTAMP:20260425T201203
CREATED:20240626T181644Z
LAST-MODIFIED:20240626T181644Z
UID:10000074-1717509600-1717516800@www.nlacrc.org
SUMMARY:OCRA Public Presentation - Clients Rights
DESCRIPTION:OCRA Public Presentation – Clients Rights\n \n \nJoin Zoom Meeting\nhttps://us06web.zoom.us/j/88187356846?pwd=hbCEQIFCb5m3H8juHKhbCgXZEOrxtg.1 \nMeeting ID: 881 8735 6846\nPasscode: 208250
URL:https://www.nlacrc.org/calendar/ocra-public-presentation-clients-rights/
END:VEVENT
BEGIN:VEVENT
DTSTART;TZID=America/Los_Angeles:20240604T180000
DTEND;TZID=America/Los_Angeles:20240604T193000
DTSTAMP:20260425T201203
CREATED:20240626T182446Z
LAST-MODIFIED:20240626T182446Z
UID:10000075-1717524000-1717529400@www.nlacrc.org
SUMMARY:2022 Performance Contract Public Meeting
DESCRIPTION:Performance Contract Public Meeting\n\nTime: June 4\, 2024 6:00 PM\nhttps://rebrand.ly/PerformanceContractPM \nMeeting ID: 828 5084 4429\nPasscode: 465788 \nPresented in English with Spanish\, Armenian\, Farsi\, and Tagalog interpretation. Information will be the same at both meetings.\n\nIf you need interpretation in other languages\, please contact publicinfo@nlacrc.org or call (818) 245-5571. Please email us five (5) business days before the meeting so we may accommodate your requests. \n\n\n___ \n\n\nComplete our brief survey to give us your input about local goals for the Performance Contract! \n\n\n>>View the Performance Contract Survey \n\n\n  \n\n\nPerformance Contracts & Related Information\n>>View the Board & DDS approved Performance Contracts \n\n\n\n>>Click here to view the flyer
URL:https://www.nlacrc.org/calendar/2022-performance-contract-public-meeting-2/
END:VEVENT
BEGIN:VEVENT
DTSTART;TZID=America/Los_Angeles:20240605T150000
DTEND;TZID=America/Los_Angeles:20240605T163000
DTSTAMP:20260425T201203
CREATED:20240626T182736Z
LAST-MODIFIED:20240626T182804Z
UID:10000076-1717599600-1717605000@www.nlacrc.org
SUMMARY:Consumer Advisory Committee
DESCRIPTION:Meetings are held on the first Wednesday of the month from 3:00 p.m. to 4:30 p.m. \nAll meetings will be held virtually through Zoom until further notice. \nAGENDA \nJoin Zoom Meeting \nhttps://us06web.zoom.us/j/83731427362?pwd=V4PuNmHktTpGlj9biH5bBYEgNG74bZ.1 \n  \nMeeting ID: 837 3142 7362 \nPasscode: 345465 \n— \nOne tap mobile \n+16699006833\,\,83731427362#\,\,\,\,*345465# US (San Jose) \n+14086380968\,\,83731427362#\,\,\,\,*345465# US (San Jose) \nPeople who come to 5 meetings during a 12-month period become CAC members! \nIf you are an adult NLACRC consumer and would like to attend\, please contact jrodriguez@nlacrc.org. \nWednesday\, June 5\, 2024 \nEmail boardsupport@nlacrc.org for translation services and/or additional accommodation you may need. Requests must be made five (5) business days before the meeting.
URL:https://www.nlacrc.org/calendar/consumer-advisory-committee/
END:VEVENT
BEGIN:VEVENT
DTSTART;TZID=America/Los_Angeles:20240605T163000
DTEND;TZID=America/Los_Angeles:20240605T180000
DTSTAMP:20260425T201203
CREATED:20240626T182900Z
LAST-MODIFIED:20240626T182900Z
UID:10000077-1717605000-1717610400@www.nlacrc.org
SUMMARY:Support Group for Self Determination Program at NLACRC
DESCRIPTION:Support Group for Self Determination Program at NLACRC <br “=””> <br “=””>Join other participants in the Self Determination Program (SDP) at NLACRC\, along with people interested in moving into the SDP\, to talk about challenges and successes we are experiencing in SDP at NLACRC. \nWe will attempt to solve problems and troubleshoot together! Join the SDP fun with Kelly and Kristianna from DVU. \nHosted by: Kelly Kulzer-Reyes\, DVU\, SDP Trainer Kristianna Moralls\, DVU\, Director of SDP \nSpanish interpretation and closed captioning provided. \n\nJun 5\, 2024 04:30 PM\nJul 3\, 2024 04:30 PM\nAug 7\, 2024 04:30 PM\nSep 4\, 2024 04:30 PM\nOct 2\, 2024 04:30 PM\nNov 6\, 2024 04:30 PM\nDec 4\, 2024 04:30 PM\n\nClick Here to Register \nZoom link in English and Spanish: \nhttps://us02web.zoom.us/meeting/register/tZctf-igqD0uGNXxR7STmImnRuCCmJjRQ9dC?fbclid=IwAR2-qnhuKwgCGKopUmoPpt9qxTz6h3tAv9qNk8s9X2H6lbC1ONnKqWf2W6M#/registration
URL:https://www.nlacrc.org/calendar/support-group-for-self-determination-program-at-nlacrc/
END:VEVENT
BEGIN:VEVENT
DTSTART;TZID=America/Los_Angeles:20240605T183000
DTEND;TZID=America/Los_Angeles:20240605T200000
DTSTAMP:20260425T201203
CREATED:20240626T183112Z
LAST-MODIFIED:20240626T183112Z
UID:10000078-1717612200-1717617600@www.nlacrc.org
SUMMARY:Farsi Tea Time
DESCRIPTION:
URL:https://www.nlacrc.org/calendar/farsi-tea-time/
END:VEVENT
BEGIN:VEVENT
DTSTART;TZID=America/Los_Angeles:20240606T093000
DTEND;TZID=America/Los_Angeles:20240606T110000
DTSTAMP:20260425T201203
CREATED:20240626T183211Z
LAST-MODIFIED:20240626T183211Z
UID:10000079-1717666200-1717671600@www.nlacrc.org
SUMMARY:Vendor Advisory Committee
DESCRIPTION:These meetings are usually held at the center’s main office in Chatsworth at 9:30 a.m.  However\, the meetings will now be held virtually\, through Zoom\, until further notice. \nAll NLACRC vendors are welcome. Dates and times of these meetings may be subject to change. If you are interested in participating in a meeting and you would like to attend\, please contact boardsupport@nlacrc.org for meeting materials. \nAGENDA \nMeeting Packet \nJoin Zoom Meeting \nhttps://us06web.zoom.us/j/84355686061\nPasscode: 118534 \nTo Join by Telephone please dial:\n(669) 900-6833\n(408) 638-0968\nWebinar ID: 843 5568 6061\nPasscode: 118534 \nEmail boardsupport@nlacrc.orgClick To Send An Email for translation services and/or additional accommodation you may need. Requests must be made five (5) business days before the meeting.
URL:https://www.nlacrc.org/calendar/vendor-advisory-committee/
END:VEVENT
BEGIN:VEVENT
DTSTART;TZID=America/Los_Angeles:20240606T183000
DTEND;TZID=America/Los_Angeles:20240606T193000
DTSTAMP:20260425T201203
CREATED:20240626T184355Z
LAST-MODIFIED:20240829T163053Z
UID:10000080-1717698600-1717702200@www.nlacrc.org
SUMMARY:Armenian Parent Circle of Support
DESCRIPTION:ARMENIAN PARENT CIRCLE OF SUPPORT for people in the NLACRC area\nJoin us and find out about Regional Center services. \nRegister here:  https://csun.zoom.us/meeting/register/tZ0ldeqhrT0uHd1xfNwAkMTkYbMcqRPr3dMP#/registration
URL:https://www.nlacrc.org/calendar/armenian-parent-circle-of-support/
CATEGORIES:Community,Events,Public Meetings
END:VEVENT
BEGIN:VEVENT
DTSTART;TZID=America/Los_Angeles:20240610T170000
DTEND;TZID=America/Los_Angeles:20240610T180000
DTSTAMP:20260425T201203
CREATED:20240626T184457Z
LAST-MODIFIED:20240626T184457Z
UID:10000081-1718038800-1718042400@www.nlacrc.org
SUMMARY:Recruitment Committee Meeting
DESCRIPTION:Recruitment Committee Meeting \nJoin Zoom Meeting \nhttps://us06web.zoom.us/j/84737130208?pwd=gGkEMmM2bNBugZnQC2RTOef50bkjgw.1 \nMeeting ID: 847 3713 0208 \nPasscode: 498469 \nEmail boardsupport@nlacrc.org for translation services and/or additional accommodation you may need. Requests must be made five (5) business days before the meeting.
URL:https://www.nlacrc.org/calendar/recruitment-committee-meeting-2/
END:VEVENT
BEGIN:VEVENT
DTSTART;TZID=America/Los_Angeles:20240612T180000
DTEND;TZID=America/Los_Angeles:20240612T213000
DTSTAMP:20260425T201203
CREATED:20240626T184600Z
LAST-MODIFIED:20240626T184600Z
UID:10000082-1718215200-1718227800@www.nlacrc.org
SUMMARY:NLACRC Board of Trustees Meeting
DESCRIPTION:NLACRC Board meetings are open to the public and everyone is welcome to attend them. Dates and times of these meetings may be subject to change. \nMeetings will be held virtually using Zoom until further notice. If you are interested in participating in a meeting and you would like more info\, please contact boardsupport@nlacrc.org \n  \n\nWe are seeking input on the performance measures presented at this board meeting.\n\n\n\n\n\nFill out the survey here: https://bit.ly/4ecabf5\n\n\nAGENDA\nMeeting Packet \n\nJoin Zoom Meeting \n  \nhttps://us06web.zoom.us/j/88048791459?pwd=eDBxbmpFTVZLeDdTQzJHMWwwWCtnZz09 \nMeeting ID: 880 4879 1459 \nPasscode: 292567 \nDial by your location \n669 900 6833 \n408 638 0968 \n  \nEmail boardsupport@nlacrc.org for translation services and/or additional accommodation you may need. Requests must be made five (5) business days before the meeting.
URL:https://www.nlacrc.org/calendar/nlacrc-board-of-trustees-meeting/
END:VEVENT
BEGIN:VEVENT
DTSTART;TZID=America/Los_Angeles:20240613T093000
DTEND;TZID=America/Los_Angeles:20240613T110000
DTSTAMP:20260425T201203
CREATED:20240626T184654Z
LAST-MODIFIED:20240626T184654Z
UID:10000083-1718271000-1718276400@www.nlacrc.org
SUMMARY:Community Learning Forum Conservatorship
DESCRIPTION:Click here to view the presentation \nJoin Zoom Meeting\nhttps://us06web.zoom.us/j/83547771365?pwd=7dmIR68s1UIrPIgd2pEhYcPhhbruig.1 \nMeeting ID: 835 4777 1365\nPasscode: 559674
URL:https://www.nlacrc.org/calendar/community-learning-forum-conservatorship/
END:VEVENT
BEGIN:VEVENT
DTSTART;TZID=America/Los_Angeles:20240613T140000
DTEND;TZID=America/Los_Angeles:20240613T150000
DTSTAMP:20260425T201203
CREATED:20240626T184740Z
LAST-MODIFIED:20240626T184740Z
UID:10000084-1718287200-1718290800@www.nlacrc.org
SUMMARY:SDP Independent Facilitator Round Table
DESCRIPTION:Independent Facilitator Round Table Monthly Meeting\nAre you an Independent Facilitator (IF) working with Self-Determination participants at NLACRC? \nWe invite you to join our monthly IF round table! \nWhen: 2nd Thursday of the month at 2pm. \nWhere: Zoom\, register in advance for this meeting:\nClick here to register for the IF round table
URL:https://www.nlacrc.org/calendar/sdp-independent-facilitator-round-table/
END:VEVENT
BEGIN:VEVENT
DTSTART;TZID=America/Los_Angeles:20240617T170000
DTEND;TZID=America/Los_Angeles:20240617T180000
DTSTAMP:20260425T201203
CREATED:20240626T184921Z
LAST-MODIFIED:20240814T063320Z
UID:10000085-1718643600-1718647200@www.nlacrc.org
SUMMARY:Recruitment Committee Meeting
DESCRIPTION:
URL:https://www.nlacrc.org/calendar/recruitment-committee-meeting-3/
CATEGORIES:Legislative
END:VEVENT
BEGIN:VEVENT
DTSTART;TZID=America/Los_Angeles:20240618T110000
DTEND;TZID=America/Los_Angeles:20240618T123000
DTSTAMP:20260425T201203
CREATED:20240626T185013Z
LAST-MODIFIED:20240814T063314Z
UID:10000086-1718708400-1718713800@www.nlacrc.org
SUMMARY:Self Advocacy Meeting
DESCRIPTION:Zoom link: https://us06web.zoom.us/j/89409430403?pwd=muROgAJtU5CSax7lO6V7laO135pfya.1#success
URL:https://www.nlacrc.org/calendar/self-advocacy-meeting/
CATEGORIES:Legislative
END:VEVENT
BEGIN:VEVENT
DTSTART;TZID=America/Los_Angeles:20240618T180000
DTEND;TZID=America/Los_Angeles:20240618T193000
DTSTAMP:20260425T201203
CREATED:20240626T185154Z
LAST-MODIFIED:20240814T063307Z
UID:10000087-1718733600-1718739000@www.nlacrc.org
SUMMARY:National Core Indicators Public Meeting
DESCRIPTION:Zoom link: https://rebrand.ly/NCImeeting \nMeeting ID: 871 3203 0865 \nPasscode: 329462 \n_____________________________________ \nThe meeting offers an opportunity for individuals and provide valuable feedback and comments. \nThe following items will be presented: \n1. Child Family Survey 2021-22 – Completed by families of a child (ages 3-16 years old) who lives in the family home. \n2. Adult Family Survey 2021-22– Completed by families of an adult (age 18 and over) who lives in the family home. \n3. Family Guardian Survey 2021-22– Completed by families or conservators of individuals (age 18 and over) who live in a community placement. \n4. Adult In-Person Survey 2017-18 – In-Person Survey (IPS) is a face-to-face meeting conducted with a person who is receiving services. \n5. Adult In-Person Survey 2020-21 – In-Person Survey (IPS) is a face-to-face meeting conducted with a person who is receiving services. \nFor more information visit the DDS website: National Core Indicators – CA Department of Developmental Services \nMeetings will be held virtually using Zoom until further notice. If you are interested in participating in a meeting and you would like more info\, please contact boardsupport@nlacrc.org. \nEmail boardsupport@nlacrc.org for translation services and/or additional accommodation you may need. Requests must be made five (5) business days before the meeting.
URL:https://www.nlacrc.org/calendar/national-core-indicators-public-meeting/
CATEGORIES:Public Meetings
END:VEVENT
BEGIN:VEVENT
DTSTART;TZID=America/Los_Angeles:20240618T183000
DTEND;TZID=America/Los_Angeles:20240618T200000
DTSTAMP:20260425T201203
CREATED:20240626T185300Z
LAST-MODIFIED:20240814T063259Z
UID:10000088-1718735400-1718740800@www.nlacrc.org
SUMMARY:Rainbow Connection Social Group
DESCRIPTION:Click here to join the Zoom meeting: Launch Meeting – Zoom
URL:https://www.nlacrc.org/calendar/rainbow-connection-social-group/
CATEGORIES:Community
END:VEVENT
BEGIN:VEVENT
DTSTART;TZID=America/Los_Angeles:20240619T000000
DTEND;TZID=America/Los_Angeles:20240619T235959
DTSTAMP:20260425T201203
CREATED:20240626T185332Z
LAST-MODIFIED:20240626T185332Z
UID:10000089-1718755200-1718841599@www.nlacrc.org
SUMMARY:Juneteenth - NLACRC Offices Closed
DESCRIPTION:
URL:https://www.nlacrc.org/calendar/juneteenth-nlacrc-offices-closed/
END:VEVENT
BEGIN:VEVENT
DTSTART;TZID=America/Los_Angeles:20240620T183000
DTEND;TZID=America/Los_Angeles:20240620T203000
DTSTAMP:20260425T201203
CREATED:20240626T185426Z
LAST-MODIFIED:20240814T063249Z
UID:10000090-1718908200-1718915400@www.nlacrc.org
SUMMARY:Self Determination Local Advisory Committee Meeting
DESCRIPTION:NLACRC\, in collaboration with the State Council on Developmental Disabilities\, must establish a local volunteer advisory committee to provide oversight of the Self-Determination Program. The committee must consist of the regional center clients’ rights advocate\, consumers\, family members\, and other advocates and community leaders\, and should reflect the multicultural diversity and geographic profile of NLACRC’s catchment area. \nThe purpose of this committee is to provide oversight of the SDP and to give consumers and families a voice in the development and implementation of SDP. This committee -meets every third Thursday of the month. \nView Meeting Agenda (English) (Español) \nJoin Zoom Meeting / Únase a la reunión de Zoom \nhttps://zoom.us/j/97413501392?pwd=dU1RSWxFeXZnQmhUTStZbWpTSjU2Zz09 \nMeeting ID: 974 1350 1392\nPassword: 364998 \nDial by your location\n+1 408 638 0968 US (San Jose)\n+1 669 900 6833 US (San Jose) \n  \n2024 SDLVAC Meeting Schedule
URL:https://www.nlacrc.org/calendar/self-determination-local-advisory-committee-meeting/
CATEGORIES:Legislative
END:VEVENT
BEGIN:VEVENT
DTSTART;TZID=America/Los_Angeles:20240624T170000
DTEND;TZID=America/Los_Angeles:20240624T180000
DTSTAMP:20260425T201203
CREATED:20240626T185614Z
LAST-MODIFIED:20240814T063451Z
UID:10000091-1719248400-1719252000@www.nlacrc.org
SUMMARY:Recruitment Committee Meeting
DESCRIPTION:Recruitment Committee Meeting \nJoin Zoom Meeting \nhttps://us06web.zoom.us/j/84737130208?pwd=gGkEMmM2bNBugZnQC2RTOef50bkjgw.1 \nMeeting ID: 847 3713 0208 \nPasscode: 498469 \nEmail boardsupport@nlacrc.org for translation services and/or additional accommodation you may need. Requests must be made five (5) business days before the meeting.
URL:https://www.nlacrc.org/calendar/recruitment-committee-meeting-4/
CATEGORIES:Legislative
END:VEVENT
END:VCALENDAR