BEGIN:VCALENDAR
VERSION:2.0
PRODID:-//North Los Angeles County - ECPv6.13.2.1//NONSGML v1.0//EN
CALSCALE:GREGORIAN
METHOD:PUBLISH
X-ORIGINAL-URL:https://www.nlacrc.org
X-WR-CALDESC:Events for North Los Angeles County
REFRESH-INTERVAL;VALUE=DURATION:PT1H
X-Robots-Tag:noindex
X-PUBLISHED-TTL:PT1H
BEGIN:VTIMEZONE
TZID:America/Los_Angeles
BEGIN:DAYLIGHT
TZOFFSETFROM:-0800
TZOFFSETTO:-0700
TZNAME:PDT
DTSTART:20250309T100000
END:DAYLIGHT
BEGIN:STANDARD
TZOFFSETFROM:-0700
TZOFFSETTO:-0800
TZNAME:PST
DTSTART:20251102T090000
END:STANDARD
END:VTIMEZONE
BEGIN:VEVENT
DTSTART;TZID=America/Los_Angeles:20250409T100000
DTEND;TZID=America/Los_Angeles:20250409T130000
DTSTAMP:20260421T050447
CREATED:20250304T001048Z
LAST-MODIFIED:20250311T230225Z
UID:10000806-1744192800-1744203600@www.nlacrc.org
SUMMARY:The Regional Center on Wheels!
DESCRIPTION:Do you have questions about how to access Regional Center services? Join us at one of the following locations to connect with NLACRC’s Spanish Outreach Language Specialists and get the information you need.\nEvent Dates & Locations:📍 March 12 (12:00 PM – 3:00 PM)Olive View UCLA – Women’s and Children’s Center14445 Olive View Dr\, Sylmar\, CA 91342 \n📍 March 26 (1:30 PM – 3:30 PM)Noble Avenue Early Education Center8315 Noble Avenue\, North Hills\, CA 91343 \n📍 April 9 (10:00 AM – 1:00 PM)Northeast Valley Health Corporation1600 San Fernando Road\, San Fernando\, CA 91340 \n📍 April 23 (2:30 PM – 5:00 PM)Chase Street Early Education Center8635 Colbath Avenue\, Panorama City\, CA 91402 \nContact Information:For more details\, call 661-951-1220 (option 1) or email PFSSSupport@nlacrc.org \nHope to see you there! 🚗💜
URL:https://www.nlacrc.org/calendar/the-regional-center-on-wheels/2025-04-09/
CATEGORIES:Community,NLACRC Board
END:VEVENT
BEGIN:VEVENT
DTSTART;TZID=America/Los_Angeles:20250409T180000
DTEND;TZID=America/Los_Angeles:20250409T200000
DTSTAMP:20260421T050447
CREATED:20240918T002854Z
LAST-MODIFIED:20250410T030043Z
UID:10000366-1744221600-1744228800@www.nlacrc.org
SUMMARY:Board of Trustees Meeting
DESCRIPTION:AGENDA \nMEETING PACKET \nNLACRC Board meetings are open to the public and everyone is welcome to attend them. Dates and times of these meetings may be subject to change. \nThe meeting will be held in-person and online via Zoom. \nIn-Person\nAntelope Valley Location: 43850 10th Street West Lancaster\, CA 93534 \nOr \nVia Zoom\nhttps://us06web.zoom.us/j/85005977187?pwd=kN7aqZMJw7XXdGpGTNEp0HlaPs7OGL.1  \nMeeting ID: 850 0597 7187 \nPasscode: 972870 \nEmail boardsupport@nlacrc.org for translation services and/or additional accommodation you may need. Requests must be made five (5) business days before the meeting. \nPara obtener información sobre los servicios de traducción y/o las adaptaciones que pueda necesitar\, envíe un correo electrónico a boardsupport@nlacrc.org.” Las solicitudes deben hacerse al menos cinco días hábiles antes de la reunion.
URL:https://www.nlacrc.org/calendar/board-of-trustees-meeting-11/
CATEGORIES:NLACRC Board
END:VEVENT
BEGIN:VEVENT
DTSTART;TZID=America/Los_Angeles:20250423T143000
DTEND;TZID=America/Los_Angeles:20250423T170000
DTSTAMP:20260421T050447
CREATED:20250304T001048Z
LAST-MODIFIED:20250311T230225Z
UID:10000807-1745418600-1745427600@www.nlacrc.org
SUMMARY:The Regional Center on Wheels!
DESCRIPTION:Do you have questions about how to access Regional Center services? Join us at one of the following locations to connect with NLACRC’s Spanish Outreach Language Specialists and get the information you need.\nEvent Dates & Locations:📍 March 12 (12:00 PM – 3:00 PM)Olive View UCLA – Women’s and Children’s Center14445 Olive View Dr\, Sylmar\, CA 91342 \n📍 March 26 (1:30 PM – 3:30 PM)Noble Avenue Early Education Center8315 Noble Avenue\, North Hills\, CA 91343 \n📍 April 9 (10:00 AM – 1:00 PM)Northeast Valley Health Corporation1600 San Fernando Road\, San Fernando\, CA 91340 \n📍 April 23 (2:30 PM – 5:00 PM)Chase Street Early Education Center8635 Colbath Avenue\, Panorama City\, CA 91402 \nContact Information:For more details\, call 661-951-1220 (option 1) or email PFSSSupport@nlacrc.org \nHope to see you there! 🚗💜
URL:https://www.nlacrc.org/calendar/the-regional-center-on-wheels/2025-04-23/
CATEGORIES:Community,NLACRC Board
END:VEVENT
BEGIN:VEVENT
DTSTART;TZID=America/Los_Angeles:20250424T163000
DTEND;TZID=America/Los_Angeles:20250424T164500
DTSTAMP:20260421T050447
CREATED:20250421T230959Z
LAST-MODIFIED:20250421T235250Z
UID:10000825-1745512200-1745513100@www.nlacrc.org
SUMMARY:NLACRC Special Board of Trustees Meeting
DESCRIPTION:AGENDA \n📅 Date & Time: Thursday\, April 24th at 4:30-4:45pm📍 Location: Online via Zoom🔗 Zoom Link: Join the Meeting🆔 Meeting ID: 850 0597 7187🔒 Passcode: 972870 \nJoin us for the NLACRC Board Meeting. These meetings are open to the public\, and everyone is welcome to attend. Please note that dates and times may be subject to change. \n📧 For translation services and/or additional accommodations\, email boardsupport@nlacrc.org. Requests must be made at least five (5) business days prior to the meeting.
URL:https://www.nlacrc.org/calendar/nlacrc-special-board-of-trustees-meeting/
CATEGORIES:NLACRC Board
END:VEVENT
END:VCALENDAR