BEGIN:VCALENDAR
VERSION:2.0
PRODID:-//North Los Angeles County - ECPv6.13.2.1//NONSGML v1.0//EN
CALSCALE:GREGORIAN
METHOD:PUBLISH
X-WR-CALNAME:North Los Angeles County
X-ORIGINAL-URL:https://www.nlacrc.org
X-WR-CALDESC:Events for North Los Angeles County
REFRESH-INTERVAL;VALUE=DURATION:PT1H
X-Robots-Tag:noindex
X-PUBLISHED-TTL:PT1H
BEGIN:VTIMEZONE
TZID:America/Los_Angeles
BEGIN:DAYLIGHT
TZOFFSETFROM:-0800
TZOFFSETTO:-0700
TZNAME:PDT
DTSTART:20250309T100000
END:DAYLIGHT
BEGIN:STANDARD
TZOFFSETFROM:-0700
TZOFFSETTO:-0800
TZNAME:PST
DTSTART:20251102T090000
END:STANDARD
END:VTIMEZONE
BEGIN:VEVENT
DTSTART;TZID=America/Los_Angeles:20250108T180000
DTEND;TZID=America/Los_Angeles:20250108T200000
DTSTAMP:20260421T101222
CREATED:20240919T191847Z
LAST-MODIFIED:20250108T203126Z
UID:10000369-1736359200-1736366400@www.nlacrc.org
SUMMARY:CANCELLED - Board of Trustees Meeting
DESCRIPTION:Tonight’s meeting is CANCELLED \n In light of the severe weather conditions the Board of Trustees meeting has been rescheduled for January 16\, 2025. This decision is intended to minimize the need for travel and prioritize everyone’s safety. \nLa reunión de esta noche está CANCELADA \nEn vista de las severas condiciones climáticas\, la reunión de la Junta Directiva se ha reprogramado para el 16 de enero de 2025. Esta decisión tiene como objetivo minimizar la necesidad de viajar y priorizar la seguridad de todos. \n \nNLACRC Board meetings are open to the public and everyone is welcome to attend them. Dates and times of these meetings may be subject to change. \nThe meeting will be held via Zoom. If you are interested in participating in a meeting and you would like more info\, please contact boardsupport@nlacrc.org. \nFY2023-24 Performance Contract Year-End Report \nAgenda \nMeeting Packet \nJoin Zoom Meeting \nhttps://us06web.zoom.us/j/85005977187?pwd=kN7aqZMJw7XXdGpGTNEp0HlaPs7OGL.1  \nMeeting ID: 850 0597 7187 \nPasscode: 972870 \nEmail boardsupport@nlacrc.org for translation services and/or additional accommodation you may need. Requests must be made five (5) business days before the meeting. \nPara obtener información sobre los servicios de traducción y/o las adaptaciones que pueda necesitar\, envíe un correo electrónico a boardsupport@nlacrc.org.” Las solicitudes deben hacerse al menos cinco días hábiles antes de la reunion.
URL:https://www.nlacrc.org/calendar/board-of-trustees-meeting-15/
CATEGORIES:Meetings,NLACRC Board
END:VEVENT
END:VCALENDAR