BEGIN:VCALENDAR
VERSION:2.0
PRODID:-//North Los Angeles County - ECPv6.13.2.1//NONSGML v1.0//EN
CALSCALE:GREGORIAN
METHOD:PUBLISH
X-ORIGINAL-URL:https://www.nlacrc.org
X-WR-CALDESC:Events for North Los Angeles County
REFRESH-INTERVAL;VALUE=DURATION:PT1H
X-Robots-Tag:noindex
X-PUBLISHED-TTL:PT1H
BEGIN:VTIMEZONE
TZID:America/Los_Angeles
BEGIN:DAYLIGHT
TZOFFSETFROM:-0800
TZOFFSETTO:-0700
TZNAME:PDT
DTSTART:20240310T100000
END:DAYLIGHT
BEGIN:STANDARD
TZOFFSETFROM:-0700
TZOFFSETTO:-0800
TZNAME:PST
DTSTART:20241103T090000
END:STANDARD
END:VTIMEZONE
BEGIN:VEVENT
DTSTART;TZID=America/Los_Angeles:20240822T173000
DTEND;TZID=America/Los_Angeles:20240822T183000
DTSTAMP:20260421T174903
CREATED:20240819T190453Z
LAST-MODIFIED:20240822T195510Z
UID:10000183-1724347800-1724351400@www.nlacrc.org
SUMMARY:Post-Retirement Medical Trust Committee Meeting
DESCRIPTION:***CANCELLED***
URL:https://www.nlacrc.org/calendar/post-retirement-medical-trust-committee-meeting/
CATEGORIES:NLACRC Board
ATTACH;FMTTYPE=image/svg+xml:https://www.nlacrc.org/wp-content/uploads/2024/06/logo.svg
END:VEVENT
BEGIN:VEVENT
DTSTART;TZID=America/Los_Angeles:20240827T100000
DTEND;TZID=America/Los_Angeles:20240827T110000
DTSTAMP:20260421T174903
CREATED:20240820T152833Z
LAST-MODIFIED:20240822T203220Z
UID:10000224-1724752800-1724756400@www.nlacrc.org
SUMMARY:Different Thinkers\, Different Learners
DESCRIPTION:TOPIC: Understanding Behavior Disorders \n“Different Thinkers\, Different Learners” is an opportunity for you to learn and better understand your child’s different abilities. You will have access to ideas and tools to help your child with her or his learning skills. Mariana Leñero Solar is the series instructor. Ms. Leñero Solar is a psycho-educational consultant and the instructor for LRLC’s TIGER self-advocacy program designed and taught by Learning Rights to foster the tools of families in need to advocate within special education successfully. \nRegister Here\nMeeting Registration – Zoom \nThe resources listed above are for informational purposes only. NLACRC does not guarantee or warrant the accuracy\, relevance\, timeliness\, or completeness of the information contained on any linked website. Any reference to a specific product\, process\, or service does not constitute or imply an endorsement by NLACRC of the product\, service\, or provider. The views and opinions expressed in any linked website do not necessarily state or reflect those of NLACRC. \n“Diferentes maneras de pensar\, Diferentes maneras de aprender” es una oportunidad para que usted aprenda y comprenda mejor las diferentes habilidades de su hijo. Tendrá acceso a ideas y herramientas para ayudar a su hijo con sus habilidades de aprendizaje. Mariana Leñero Solar es la instructora de la serie. La Sra. Leñero Solar es consultora psicoeducativa e instructora del programa de autodefensa TIGER de LRLC diseñado y enseñado por Learning Rights para fomentar las herramientas de las familias que necesitan abogar con éxito dentro de la educación especial. \nRegístrese aquí\nMeeting Registration – Zoom \n Los recursos enumerados anteriormente son solo para fines informativos. NLACRC no garantiza la exactitud\, relevancia\, puntualidad o integridad de la información contenida en cualquier sitio web vinculado. Cualquier referencia a un producto\, proceso o servicio específico no constituye ni implica un respaldo por parte del NLACRC del producto\, servicio o proveedor. Los puntos de vista y opiniones expresados en cualquier sitio web vinculado no necesariamente establecen ni reflejan los de NLACRC. \n \n \n  \n 
URL:https://www.nlacrc.org/calendar/different-thinkers-different-learners-2/
CATEGORIES:NLACRC Board
END:VEVENT
END:VCALENDAR