BEGIN:VCALENDAR
VERSION:2.0
PRODID:-//North Los Angeles County - ECPv6.13.2.1//NONSGML v1.0//EN
CALSCALE:GREGORIAN
METHOD:PUBLISH
X-WR-CALNAME:North Los Angeles County
X-ORIGINAL-URL:https://www.nlacrc.org
X-WR-CALDESC:Events for North Los Angeles County
REFRESH-INTERVAL;VALUE=DURATION:PT1H
X-Robots-Tag:noindex
X-PUBLISHED-TTL:PT1H
BEGIN:VTIMEZONE
TZID:America/Los_Angeles
BEGIN:DAYLIGHT
TZOFFSETFROM:-0800
TZOFFSETTO:-0700
TZNAME:PDT
DTSTART:20260308T100000
END:DAYLIGHT
BEGIN:STANDARD
TZOFFSETFROM:-0700
TZOFFSETTO:-0800
TZNAME:PST
DTSTART:20261101T090000
END:STANDARD
END:VTIMEZONE
BEGIN:VEVENT
DTSTART;TZID=America/Los_Angeles:20260422T170000
DTEND;TZID=America/Los_Angeles:20260422T190000
DTSTAMP:20260422T050802
CREATED:20260408T201812Z
LAST-MODIFIED:20260408T201812Z
UID:10001242-1776877200-1776884400@www.nlacrc.org
SUMMARY:Life After High School Fair: The Road to Transition
DESCRIPTION:The North Los Angeles County Regional Center (NLACRC) invites individuals\, families\, and caregivers to attend the Life After High School Fair: The Road to Transition on April 22\, 2026\, from 5:00 PM to 7:00 PM. The event will be held at the Diane S. Leichman Career Preparatory and Transition Center\, located at 19034 Gault Street\, Reseda\, CA 91335. \n\nThis in‑person fair is designed to help individuals and families plan for what comes after high school. Attendees will have the opportunity to speak with representatives from NLACRC\, community vendors\, LAUSD\, and other service providers to learn about available resources and supports. The event focuses on providing information to help participants understand their options and plan next steps after high school. \nThe fair is open to individuals ages 13 to 22\, along with families\, caregivers\, and supporters. No registration is required to attend. \nFor non‑NLACRC vendored community‑based organizations participating in the event\, a Certificate of Insurance is required and must be submitted on the day of the event.
URL:https://www.nlacrc.org/calendar/life-after-high-school-fair-the-road-to-transition/
CATEGORIES:NLACRC Event
END:VEVENT
END:VCALENDAR